BEGIN:VCALENDAR
VERSION:2.0
PRODID:-//ChamberMaster//Event Calendar 2.0//EN
METHOD:PUBLISH
X-PUBLISHED-TTL:P3D
REFRESH-INTERVAL:P3D
CALSCALE:GREGORIAN
BEGIN:VEVENT
DTSTART:20220414T230000Z
DTEND:20220415T000000Z
X-MICROSOFT-CDO-ALLDAYEVENT:FALSE
SUMMARY:Virtual Book Club for Women with Cancer
DESCRIPTION:Open to people who have or have had breast\, ovarian or gynecological cancer. Pre-registration is required. To register\, call Support Connection no later than 5pm NY time on February 9: 914-962-6402 or 800-532-4290. Book to be discussed: The Rent Collector by Camron Wright. This fact-based novel has been described as a story of hope\, of one woman's journey to save her son and another woman's chance at redemption. "A beautifully told story about the perseverance of the human spirit and the importance of standing up for what is right." (Booklist) "An amazing piece of literature\, a must-read for every book club!" (New York Times bestselling author Sean Covey) Discussion leader: Amy Curran Baker (author of Now What? A Guide to Recovery After Mastectomy) and Fran Contino.
X-ALT-DESC;FMTTYPE=text/html:Open to people who have or have had breast\, ovarian or gynecological cancer. Pre-registration is required. To register\, call Support Connection no later than 5pm NY time on February 9: 914-962-6402 or 800-532-4290. Book to be discussed: The Rent Collector by Camron Wright. This fact-based novel has been described as a story of hope\, of one woman&rsquo\;s journey to save her son and another woman&rsquo\;s chance at redemption. &ldquo\;A beautifully told story about the perseverance of the human spirit and the importance of standing up for what is right.&rdquo\; (Booklist) &ldquo\;An amazing piece of literature\, a must-read for every book club!&rdquo\; (New York Times bestselling author Sean Covey) Discussion leader: Amy Curran Baker (author of Now What? A Guide to Recovery After Mastectomy) and Fran Contino.
LOCATION:Zoom Video Conference
UID:e.2688.28622
SEQUENCE:3
DTSTAMP:20260424T171107Z
URL:https://business.hvgatewaychamber.com/events/details/virtual-book-club-for-women-with-cancer-28622
END:VEVENT

END:VCALENDAR
