BEGIN:VCALENDAR
VERSION:2.0
PRODID:-//ChamberMaster//Event Calendar 2.0//EN
METHOD:PUBLISH
X-PUBLISHED-TTL:P3D
REFRESH-INTERVAL:P3D
CALSCALE:GREGORIAN
BEGIN:VEVENT
DTSTART:20220402T000000Z
DTEND:20220402T020000Z
X-MICROSOFT-CDO-ALLDAYEVENT:FALSE
SUMMARY:Vic DiBitetto
DESCRIPTION:After Show VIP Meet and Greet Available! Get them HERE!\n\n(VIP Tickets sold Separately)\n\n \n\nHe prowls the stage like a Tiger. He holds no hostages. He says what you are thinking but are afraid to say out loud. Oh and he's beyond hysterical! Vic is currently a cast member of the Amazon Prime TV Series Gravesend and has been Co-Headlining special event shows with comic legend Andrew "Dice" Clay.\n\nVic has created many viral video characters Uncle Vic's Garage\, Tony Gaga\, That Guy\, Frankie Pentangelli\, Scarface\, Rocky\, Fool by the Pool and Ticked Off Vic. His Yankee and Giant locker room and press conference satires are now legendary. And his Bread and Milk video is like a Christmas Carole that comes back on TV\, radio and news outlets every time it snows worldwide!\n\nYou've never seen anything like Vic DiBitetto on stage.\n\nAn inherent risk of exposure to Covid-19 exists in any public place where people are present. By visiting the Paramount Hudson Valley Theater\, you voluntarily assume all risks related to exposure to Covid-19.\n\nAll adult guests must be fully vaccinated or show proof of a negative COVID-19 test within 72 hours\, to enter the theatre and must present digital or physical proof at the door. Children under 12 may also show proof of a negative COVID-19 test within 72 hours. (Our policy will remain fluid\, so please check back or call or email the box office with any questions)
X-ALT-DESC;FMTTYPE=text/html:<p style="text-align:center">After Show VIP Meet and Greet Available! Get them&nbsp\;<a href="http://paramounthudsonvalley.showare.com/orderticketsarea.asp?p=1131&amp\;a=863" style="margin: 0px\; padding: 0px\; border: 0px\; font: inherit\; vertical-align: baseline\; color: black\; cursor: pointer\; text-decoration-line: none\;">HERE!</a></p>\n\n<p style="text-align:center">(VIP Tickets sold Separately)</p>\n\n<p style="text-align:center">&nbsp\;</p>\n\n<p style="text-align:center">He prowls the stage like a Tiger. He holds no hostages. He says what you are thinking but are afraid to say out loud. Oh&hellip\;and he&rsquo\;s beyond hysterical! Vic is currently a cast member of the Amazon Prime TV Series Gravesend and has been Co-Headlining special event shows with comic legend Andrew &ldquo\;Dice&rdquo\; Clay.</p>\n\n<p style="text-align:center">Vic has created many viral video characters&hellip\;Uncle Vic&rsquo\;s Garage\, Tony Gaga\, That Guy\, Frankie Pentangelli\, Scarface\, Rocky\, Fool by the Pool and Ticked Off Vic. His Yankee and Giant locker room and press conference satires are now legendary. And his Bread and Milk video is like a Christmas Carole that comes back on TV\, radio and news outlets every time it snows worldwide!</p>\n\n<p style="text-align:center">You&rsquo\;ve never seen anything like Vic DiBitetto on stage.</p>\n\n<p style="text-align:center">An inherent risk of exposure to Covid-19 exists in any public place where people are present. By visiting the Paramount Hudson Valley Theater\, you voluntarily assume all risks related to exposure to Covid-19.<br />\nAll adult guests must be fully vaccinated or show proof of a negative COVID-19 test within 72 hours\, to enter the theatre and must present digital or physical proof at the door. Children under 12 may also show proof of a negative COVID-19 test within 72 hours. (Our policy will remain fluid\, so please check back or call or email the box office with any questions)</p>\n\n<p style="text-align:center">&nbsp\;</p>\n
LOCATION:1008 Brown St Peekskill NY 10566 Paramount Hudson Valley
UID:e.2688.20725
SEQUENCE:3
DTSTAMP:20260424T182306Z
URL:https://business.hvgatewaychamber.com/events/details/vic-dibitetto-04-01-2022-20725
END:VEVENT

END:VCALENDAR
