BEGIN:VCALENDAR
VERSION:2.0
PRODID:-//ChamberMaster//Event Calendar 2.0//EN
METHOD:PUBLISH
X-PUBLISHED-TTL:P3D
REFRESH-INTERVAL:P3D
CALSCALE:GREGORIAN
BEGIN:VEVENT
DTSTART:20220403T000000Z
DTEND:20220403T020000Z
X-MICROSOFT-CDO-ALLDAYEVENT:FALSE
SUMMARY:Tupelo Honey - A Van Morrison Celebration
DESCRIPTION:The Music of Van Morrison Comes to Peekskill Tupelo Honey is a tribute to one of the finest songwriters and performers of a generation. They call him Van The Man They call him The Master. He is Van Morrison. With 50 years of music\, he has written some of the most iconic songs in popular music history. With reverence\, Tupelo Honey recreates his song book. On stage the show is a celebration. Its hard to tell who's having more fun the audience or the band itself. Moondance\, Brown Eyed Girl\, Have I Told You Lately\, Domino\, Wild Night and so many more.
X-ALT-DESC;FMTTYPE=text/html:The Music of Van Morrison Comes to Peekskill Tupelo Honey is a tribute to one of the finest songwriters and performers of a generation. They call him Van The Man&hellip\;They call him The Master. He is Van Morrison. With 50 years of music\, he has written some of the most iconic songs in popular music history. With reverence\, Tupelo Honey recreates his song book. On stage the show is a celebration. Its hard to tell who&rsquo\;s having more fun&hellip\;the audience or the band itself. Moondance\, Brown Eyed Girl\, Have I Told You Lately\, Domino\, Wild Night and so many more.
LOCATION:Paramount Hudson Valley Theater 1008 Brown St.\, Peekskill\, NY 10566
UID:e.2688.25214
SEQUENCE:3
DTSTAMP:20260424T170345Z
URL:https://business.hvgatewaychamber.com/events/details/tupelo-honey-a-van-morrison-celebration-25214
END:VEVENT

END:VCALENDAR
