BEGIN:VCALENDAR
VERSION:2.0
PRODID:-//ChamberMaster//Event Calendar 2.0//EN
METHOD:PUBLISH
X-PUBLISHED-TTL:P3D
REFRESH-INTERVAL:P3D
CALSCALE:GREGORIAN
BEGIN:VEVENT
DTSTART:20220419T220000Z
DTEND:20220419T230000Z
X-MICROSOFT-CDO-ALLDAYEVENT:FALSE
SUMMARY:Tuesday Night Bingo
DESCRIPTION:Spend an evening out playing Bingo with friends. Token prizes will be given to all winners. Registration begins April 5 via the library's Web site.
X-ALT-DESC;FMTTYPE=text/html:Spend an evening out playing Bingo with friends. Token prizes will be given to all winners. Registration begins April 5 via the library&#39\;s Web site.
LOCATION:Hendrick Hudson Free Library 185 Kings Ferry Road Montrose\, NY 10548
UID:e.2688.28637
SEQUENCE:3
DTSTAMP:20260424T182224Z
URL:https://business.hvgatewaychamber.com/events/details/tuesday-night-bingo-04-19-2022-28637
END:VEVENT

END:VCALENDAR
