BEGIN:VCALENDAR
VERSION:2.0
PRODID:-//ChamberMaster//Event Calendar 2.0//EN
METHOD:PUBLISH
X-PUBLISHED-TTL:P3D
REFRESH-INTERVAL:P3D
CALSCALE:GREGORIAN
BEGIN:VEVENT
DTSTART:20220224T220000Z
DTEND:20220224T230000Z
X-MICROSOFT-CDO-ALLDAYEVENT:FALSE
SUMMARY:Topics At 5 Event - Make Your Home Healthy
DESCRIPTION:Make Your Home Healthy\nThe hidden dangers lurking in your home\; 5 easy ways to make your home healthy and less toxic\n\n\n	what chemicals to avoid\n	what to look for and avoid when buying furniture\n	how to create a healthy bedroom\n	Where to start\n\n\nPresented by  Deborah DiMare - DiMare Designs
X-ALT-DESC;FMTTYPE=text/html:<span class="JsGRdQ" style="color: rgb(46\, 28\, 14)\;">Make Your Home Healthy</span>\n<p class="_04xlpA direction-ltr align-center para-style-body" style="font-family: &quot\;YALBs3xmw50 0&quot\;\, _fb_\, auto\; --font-size:33.0036px\; --line-height:1.2\; color: rgb(46\, 28\, 14)\; line-height: 39px\;"><span class="JsGRdQ">The hidden dangers lurking in your home\; 5 easy ways to make your home healthy and less toxic</span></p>\n\n<ul>\n	<li><span class="JsGRdQ" style="color: rgb(46\, 28\, 14)\;">what chemicals to avoid</span></li>\n	<li><span class="JsGRdQ" style="color: rgb(46\, 28\, 14)\;">what to look for and avoid when buying furniture</span></li>\n	<li><span class="JsGRdQ" style="color: rgb(46\, 28\, 14)\;">how to create a healthy bedroom</span></li>\n	<li><span class="JsGRdQ" style="color: rgb(46\, 28\, 14)\;">Where to start</span></li>\n</ul>\n\n<p class="_04xlpA direction-ltr align-center para-style-body" style="font-family: &quot\;YALBs3xmw50 0&quot\;\, _fb_\, auto\; --font-size:33.0036px\; --line-height:1.2\; color: rgb(46\, 28\, 14)\; line-height: 39px\;"><span class="JsGRdQ">Presented by&nbsp\; Deborah DiMare - DiMare Designs</span></p>\n
LOCATION:https://us06web.zoom.us/meeting/register/tZIkdOusrDopGNbASouOE5Iz6qI3MY10y3x6
UID:e.2688.23587
SEQUENCE:3
DTSTAMP:20260424T142142Z
URL:https://business.hvgatewaychamber.com/events/details/topics-at-5-event-make-your-home-healthy-23587
END:VEVENT

END:VCALENDAR
