BEGIN:VCALENDAR
VERSION:2.0
PRODID:-//ChamberMaster//Event Calendar 2.0//EN
METHOD:PUBLISH
X-PUBLISHED-TTL:P3D
REFRESH-INTERVAL:P3D
CALSCALE:GREGORIAN
BEGIN:VEVENT
DTSTART:20220425T220000Z
DTEND:20220425T230000Z
X-MICROSOFT-CDO-ALLDAYEVENT:FALSE
SUMMARY:The Power Behind The Performance
DESCRIPTION:For an organization to run effectively all operations need to be streamlined and monitored. But often the areas that need to work together struggle to do so efficiently.\n\n\n\nAs a business leader\, it is your duty to ensure that your organization is working together to achieving individual goals and the goals of the company.\n\n\n\nJoin us on April 25th to learn the 4 key areas of operations that you should never ignore in your business!
X-ALT-DESC;FMTTYPE=text/html:For an organization to run effectively all operations need to be streamlined and monitored.&nbsp\;But often the areas that need to work together struggle to do so efficiently.<br />\n<br />\nAs a business leader\, it is your duty to ensure that your organization is working together to&nbsp\;achieving individual goals and the goals of the company.<br />\n<br />\nJoin us on April 25th to learn the 4 key areas of operations that you should never ignore in&nbsp\;your business!
LOCATION:via Zoom
UID:e.2688.30637
SEQUENCE:3
DTSTAMP:20260424T170716Z
URL:https://business.hvgatewaychamber.com/events/details/the-power-behind-the-performance-30637
END:VEVENT

END:VCALENDAR
