BEGIN:VCALENDAR
VERSION:2.0
PRODID:-//ChamberMaster//Event Calendar 2.0//EN
METHOD:PUBLISH
X-PUBLISHED-TTL:P3D
REFRESH-INTERVAL:P3D
CALSCALE:GREGORIAN
BEGIN:VEVENT
DTSTART:20220501T000000Z
DTEND:20220501T020000Z
X-MICROSOFT-CDO-ALLDAYEVENT:FALSE
SUMMARY:The Jersey Tenors- From Frank Sinatra to Frankie Valli to Figaro
DESCRIPTION:Four charming wise guys\, four powerful voices the Jersey Tenors are coming to Peekskill! The Jersey Tenors  is the newest Opera/Rock Mash-up sensation that creates an explosive blend of the most iconic Opera classics alongside such Rock 'N Roll industry greats as Queen\, Journey\, Elton John\, and Billy Joel to name but a few. But our 'Jersey pride' also brings us back to our roots as we highlight hometown heroes like Frankie Valli and The Four Seasons\, Frank Sinatra\, Bon Jovi\, Bruce Springsteen\, Kool and The Gang\, and even Whitney Houston (Jersey Girl)! "The most versatile and talented tribute act in the nation"   The Observer From Frank Sinatra to Frankie Valli to Figaro Forgettaboutit! An inherent risk of exposure to Covid-19 exists in any public place where people are present. By visiting the Paramount Hudson Valley Theater\, you voluntarily assume all risks related to exposure to Covid-19. All adult guests must be fully vaccinated or show proof of a negative COVID-19 test within 72 hours\, to enter the theatre and must present digital or physical proof at the door. Children under 12 may also show proof of a negative COVID-19 test within 72 hours. (Our policy will remain fluid\, so please check back or call or email the box office with any questions)
X-ALT-DESC;FMTTYPE=text/html:Four charming wise guys\, four powerful voices&hellip\;the Jersey Tenors are coming to Peekskill! The Jersey Tenors&trade\; is the newest Opera/Rock Mash-up sensation that creates an explosive blend of the most iconic Opera classics alongside such Rock &lsquo\;N Roll industry greats as Queen\, Journey\, Elton John\, and Billy Joel to name but a few. But our &lsquo\;Jersey pride&rsquo\; also brings us back to our roots as we highlight hometown heroes like Frankie Valli and The Four Seasons\, Frank Sinatra\, Bon Jovi\, Bruce Springsteen\, Kool and The Gang\, and even Whitney Houston (Jersey Girl)! &ldquo\;The most versatile and talented tribute act in the nation&rdquo\; &mdash\; The Observer From Frank Sinatra to Frankie Valli to Figaro&hellip\;Forgettaboutit! An inherent risk of exposure to Covid-19 exists in any public place where people are present. By visiting the Paramount Hudson Valley Theater\, you voluntarily assume all risks related to exposure to Covid-19. All adult guests must be fully vaccinated or show proof of a negative COVID-19 test within 72 hours\, to enter the theatre and must present digital or physical proof at the door. Children under 12 may also show proof of a negative COVID-19 test within 72 hours. (Our policy will remain fluid\, so please check back or call or email the box office with any questions)
LOCATION:1008 Brown Street
UID:e.2688.20728
SEQUENCE:3
DTSTAMP:20260424T171934Z
URL:https://business.hvgatewaychamber.com/events/details/the-jersey-tenors-from-frank-sinatra-to-frankie-valli-to-figaro-20728
END:VEVENT

END:VCALENDAR
