BEGIN:VCALENDAR
VERSION:2.0
PRODID:-//ChamberMaster//Event Calendar 2.0//EN
METHOD:PUBLISH
X-PUBLISHED-TTL:P3D
REFRESH-INTERVAL:P3D
CALSCALE:GREGORIAN
BEGIN:VEVENT
DTSTART:20231003T140000Z
DTEND:20231004T000000Z
X-MICROSOFT-CDO-ALLDAYEVENT:FALSE
SUMMARY:The Fuller Center for Housing of Greater New York City 22nd Annual Build-A-Community Golf Challenge
DESCRIPTION:The Fuller Center for Housing of Greater New York City will be celebrating their 22nd Annual Build-A-Community Golf Challenge\, An Applied Underwriters Invitational Event on October 3\, 2023 at 10:00 am at Wykagyl Country Club in New Rochelle\, NY. The Fuller Center for Housing of Greater New York City promotes collaborative and innovative partnerships with individuals and organizations to provide decent shelter for all people in need throughout the New York Metropolitan Area. We hope you will join us at this year's outing. Visit http://bit.ly/fullercentergolf to find numerous sponsorship and player registration opportunities\, as well as other ways to be a part of this great event.
X-ALT-DESC;FMTTYPE=text/html:The Fuller Center for Housing of Greater New York City will be celebrating their 22nd Annual Build-A-Community Golf Challenge\, An Applied Underwriters Invitational Event on October 3\, 2023 at 10:00 am at Wykagyl Country Club in New Rochelle\, NY. The Fuller Center for Housing of Greater New York City promotes collaborative and innovative partnerships with individuals and organizations to provide decent shelter for all people in need throughout the New York Metropolitan Area. We hope you will join us at this year&rsquo\;s outing. Visit http://bit.ly/fullercentergolf to find numerous sponsorship and player registration opportunities\, as well as other ways to be a part of this great event.
LOCATION:1195 North Ave\, New Rochelle\, NY 10804 Wykagyl Country Club
UID:e.2688.56708
SEQUENCE:3
DTSTAMP:20260420T201200Z
URL:https://business.hvgatewaychamber.com/events/details/the-fuller-center-for-housing-of-greater-new-york-city-22nd-annual-build-a-community-golf-challenge-56708
END:VEVENT

END:VCALENDAR
