BEGIN:VCALENDAR
VERSION:2.0
PRODID:-//ChamberMaster//Event Calendar 2.0//EN
METHOD:PUBLISH
X-PUBLISHED-TTL:P3D
REFRESH-INTERVAL:P3D
CALSCALE:GREGORIAN
BEGIN:VEVENT
DTSTART:20220410T180000Z
DTEND:20220410T193000Z
X-MICROSOFT-CDO-ALLDAYEVENT:FALSE
SUMMARY:The Edukated Fleas: Ukulele Swing
DESCRIPTION:Ukuleles are small.  Yet\, ukulele duet Greg Doyle and Wendy Matthews play the "big hits\," favoring swing\, standards\, and vintage tunes\, as well as a few things you might not expect to hear on uke.  Come join in the fun!  Registration begins March 25 via the library's Web site.
X-ALT-DESC;FMTTYPE=text/html:Ukuleles are small.&nbsp\; Yet\, ukulele duet Greg Doyle and Wendy Matthews play the &quot\;big hits\,&quot\; favoring swing\, standards\, and vintage tunes\, as well as a few things you might not expect to hear on uke.&nbsp\; Come join in the fun!&nbsp\; Registration begins March 25 via the library&#39\;s Web site.
LOCATION:Hendrick Hudson Free Library 185 Kings Ferry Road Montrose\, NY 10548
UID:e.2688.28636
SEQUENCE:3
DTSTAMP:20260424T170304Z
URL:https://business.hvgatewaychamber.com/events/details/the-edukated-fleas-ukulele-swing-28636
END:VEVENT

END:VCALENDAR
