BEGIN:VCALENDAR
VERSION:2.0
PRODID:-//ChamberMaster//Event Calendar 2.0//EN
METHOD:PUBLISH
X-PUBLISHED-TTL:P3D
REFRESH-INTERVAL:P3D
CALSCALE:GREGORIAN
BEGIN:VEVENT
DTSTART:20210822T000000Z
DTEND:20210822T020000Z
X-MICROSOFT-CDO-ALLDAYEVENT:FALSE
SUMMARY:THE BELL BOTTOM BLUES- A TRIBUTE TO ERIC CLAPTON
DESCRIPTION:The Bell Bottom Blues is a professional tribute to one of the greatest guitar players and rock icons of our time\, Eric Clapton! It is a show band in the true sense of the word which performs in theaters\, casinos\, outdoor concerts and other top venues throughout the country. The band has recreated Clapton's incredible stage presence and awe inspiring performances from The Yardbirds\, Cream\, Blind Faith\, Derek and the Dominos and a incredible solo career that spanned decades. Playing all his hits as well as some deep cuts\, Al Caprara has recreated Clapton's guitar stylings and more importantly his voice\, making the audience truly feel that they are at a live Clapton Concert. Its a high energy show with both electric and acoustic sets. This is not just a tribute\, It's a true Eric Clapton Experience!
X-ALT-DESC;FMTTYPE=text/html:<span style="font-family:times new roman\,serif"><span style="font-size:11.5pt">The Bell Bottom Blues is a professional tribute to one of the greatest guitar players and rock icons of our time\, Eric Clapton! It is a show band in the true sense of the word which performs in theaters\, casinos\, outdoor concerts and other top venues throughout the country. The band has recreated Clapton&rsquo\;s incredible stage presence and awe inspiring performances from The Yardbirds\, Cream\, Blind Faith\, Derek and the Dominos and a incredible solo career that spanned decades. Playing all his hits as well as some deep cuts\, Al Caprara has recreated Clapton&rsquo\;s guitar stylings and more importantly his voice\, making the audience truly feel that they are at a live Clapton Concert. Its a high energy show with both electric and acoustic sets. This is not just a tribute\, It&rsquo\;s a true Eric Clapton Experience!</span></span>
LOCATION:1008 Brown Street
UID:e.2688.11247
SEQUENCE:3
DTSTAMP:20260424T182525Z
URL:https://business.hvgatewaychamber.com/events/details/the-bell-bottom-blues-a-tribute-to-eric-clapton-08-22-2021-11247
END:VEVENT

END:VCALENDAR
