BEGIN:VCALENDAR
VERSION:2.0
PRODID:-//ChamberMaster//Event Calendar 2.0//EN
METHOD:PUBLISH
X-PUBLISHED-TTL:P3D
REFRESH-INTERVAL:P3D
CALSCALE:GREGORIAN
BEGIN:VEVENT
DTSTART:20210822T000000Z
DTEND:20210822T020000Z
X-MICROSOFT-CDO-ALLDAYEVENT:FALSE
SUMMARY:The Bell Bottom Blues- A Tribute to Eric Clapton
DESCRIPTION:The Bell Bottom Blues is a professional tribute to one of the greatest guitar players and rock icons of our time\, Eric Clapton! It is a show band in the true sense of the word which performs in theaters\, casinos\, outdoor concerts and other top venues throughout the country. The band has recreated Clapton's incredible stage presence and awe inspiring performances from The Yardbirds\, Cream\, Blind Faith\, Derek and the Dominos and an incredible solo career that spanned decades. Playing all his hits as well as some deep cuts\, Al Caprara has recreated Clapton's guitar stylings and more importantly his voice\, making the audience truly feel that they are at a live Clapton Concert. It's a high energy show with both electric and acoustic sets. This is not just a tribute\, It's a true Eric Clapton Experience! On June 15th\, New York State lifted most Covid restrictions that impacted performances at the Paramount. Unvaccinated individuals must continue to be responsible for wearing masks\, in accordance with federal CDC guidance. This is consistent with the State's implementation of the recent CDC guidance.
X-ALT-DESC;FMTTYPE=text/html:The Bell Bottom Blues is a professional tribute to one of the greatest guitar players and rock icons of our time\, Eric Clapton! It is a show band in the true sense of the word which performs in theaters\, casinos\, outdoor concerts and other top venues throughout the country. The band has recreated Clapton&rsquo\;s incredible stage presence and awe inspiring performances from The Yardbirds\, Cream\, Blind Faith\, Derek and the Dominos and an incredible solo career that spanned decades. Playing all his hits as well as some deep cuts\, Al Caprara has recreated Clapton&rsquo\;s guitar stylings and more importantly his voice\, making the audience truly feel that they are at a live Clapton Concert. It&rsquo\;s a high energy show with both electric and acoustic sets. This is not just a tribute\, It&rsquo\;s a true Eric Clapton Experience! On June 15th\, New York State lifted most Covid restrictions that impacted performances at the Paramount. Unvaccinated individuals must continue to be responsible for wearing masks\, in accordance with federal CDC guidance. This is consistent with the State&rsquo\;s implementation of the recent CDC guidance.
LOCATION:Paramount Hudson Valley Theater 1008 Brown St.\, Peekskill\, NY 10566
UID:e.2688.11304
SEQUENCE:3
DTSTAMP:20260424T191926Z
URL:https://business.hvgatewaychamber.com/events/details/the-bell-bottom-blues-a-tribute-to-eric-clapton-08-21-2021-11304
END:VEVENT

END:VCALENDAR
