BEGIN:VCALENDAR
VERSION:2.0
PRODID:-//ChamberMaster//Event Calendar 2.0//EN
METHOD:PUBLISH
X-PUBLISHED-TTL:P3D
REFRESH-INTERVAL:P3D
CALSCALE:GREGORIAN
BEGIN:VEVENT
DTSTART:20220401T230000Z
DTEND:20220402T030000Z
X-MICROSOFT-CDO-ALLDAYEVENT:FALSE
SUMMARY:Support Connection’s Silver Jubilee Benefit
DESCRIPTION:A gala event celebrating Support Connection's 25 years of service. Includes open bar\, abundant hors d'oeuvres\, music and raffles. A highlight of the evening is the presentation of Support Connection's Annual Spirit Awards. Proceeds will benefit Support Connection's free support services and programs for people affected by breast and ovarian cancer.
X-ALT-DESC;FMTTYPE=text/html:A gala event celebrating Support Connection&rsquo\;s 25 years of service. Includes open bar\, abundant hors d&rsquo\;oeuvres\, music and raffles. A highlight of the evening is the presentation of Support Connection&rsquo\;s Annual Spirit Awards. Proceeds will benefit Support Connection&rsquo\;s free support services and programs for people affected by breast and ovarian cancer.
LOCATION:Villa Barone Hilltop Manor\, 466 Route 6\, Mahopac\, NY 10541
UID:e.2688.25216
SEQUENCE:3
DTSTAMP:20260424T170208Z
URL:https://business.hvgatewaychamber.com/events/details/support-connection-s-silver-jubilee-benefit-25216
END:VEVENT

END:VCALENDAR
