BEGIN:VCALENDAR
VERSION:2.0
PRODID:-//ChamberMaster//Event Calendar 2.0//EN
METHOD:PUBLISH
X-PUBLISHED-TTL:P3D
REFRESH-INTERVAL:P3D
CALSCALE:GREGORIAN
BEGIN:VEVENT
DTSTART:20230616T233000Z
DTEND:20230617T020000Z
X-MICROSOFT-CDO-ALLDAYEVENT:FALSE
SUMMARY:Sun River Health Presents- Juneteenth: Access for All Celebration
DESCRIPTION:Join us for a joyous Juneteenth celebration as we welcome some incredible musical performers to the stage. The evening will highlight Peekskill's involvement in liberation and call to mind themes of unity and love. Sun River Health shares in this joy\, which binds our communities together   communities we have been honored to provide quality health care to for nearly 50 years   because excellent health care is part of what liberation means. Musical Performances by: Acute Inflections Peekskill Community Choir Gotham Kings
X-ALT-DESC;FMTTYPE=text/html:Join us for a joyous Juneteenth celebration as we welcome some incredible musical performers to the stage. The evening will highlight Peekskill&rsquo\;s involvement in liberation and call to mind themes of unity and love. Sun River Health shares in this joy\, which binds our communities together &ndash\; communities we have been honored to provide quality health care to for nearly 50 years &ndash\; because excellent health care is part of what liberation means. Musical Performances by: Acute Inflections Peekskill Community Choir Gotham Kings
LOCATION:Paramount Hudson Valley Theater 1008 Brown Street Peekskill. NY 10566
UID:e.2688.53696
SEQUENCE:3
DTSTAMP:20260423T082759Z
URL:https://business.hvgatewaychamber.com/events/details/sun-river-health-presents-juneteenth-access-for-all-celebration-06-16-2023-53696
END:VEVENT

END:VCALENDAR
