BEGIN:VCALENDAR
VERSION:2.0
PRODID:-//ChamberMaster//Event Calendar 2.0//EN
METHOD:PUBLISH
X-PUBLISHED-TTL:P3D
REFRESH-INTERVAL:P3D
CALSCALE:GREGORIAN
BEGIN:VEVENT
DTSTART;VALUE=DATE:20220316
DTEND;VALUE=DATE:20220514
TRANSP:TRANSPARENT
X-MICROSOFT-CDO-ALLDAYEVENT:TRUE
SUMMARY:"Stars Along the Hudson" Sponsor and Journal Ad Sales Event
DESCRIPTION:Honor one or all of the Chamber's 2022 "Stars Along the Hudson"  Award Recipients  by  placing a congratulatory ad in the Chamber's Commemorative Event Journal.  The afternoon Jazz Brunch Gala will take place on Sunday\, June 5\, 2022 under the tent at Monteverde at Oldstone.\n\n\n\n\n\nWe are to proud to recognize our 2022 Honorees \n\n            Charles Newman Co. --  Business of the Year\n\n            Peekskill NAACP -- Quality of Life Award\n\n            Chapman Manzer -- Volunteer of the Year\n\n            Steve Malinski -- Young Professional of the Year\n\n            Maureen Whelan -- Chairman's Award\n\n\n\nJournal Ads should be sent electronically in pdf or jpg format to dmilone@hvgatewaychamber.com before May 10\, 2022. \n\n\n\nGala Sponsorship Opportunities and Journal Ads Available Until May 10\, 2022\n\n\n\n"Contributions or gifts to the Hudson Valley Gateway Chamber of Commerce are not tax-deductible as charitable contributions.\n\nHowever\, they may be tax-deductible as ordinary and necessary business expenses."
X-ALT-DESC;FMTTYPE=text/html:<p>Honor one or all of the Chamber&#39\;s 2022 &quot\;Stars Along the Hudson&quot\;&nbsp\; Award Recipients&nbsp\; by&nbsp\; placing a congratulatory ad in the Chamber&#39\;s Commemorative Event Journal.&nbsp\; The afternoon Jazz Brunch Gala will take place on Sunday\, June 5\, 2022 under the tent at Monteverde at Oldstone.<br />\n<br />\n<br />\nWe are to proud to recognize our 2022 Honorees&nbsp\;<br />\n&nbsp\; &nbsp\; &nbsp\; &nbsp\; &nbsp\; &nbsp\; Charles Newman Co.&nbsp\;--&nbsp\; Business of the Year<br />\n&nbsp\; &nbsp\; &nbsp\; &nbsp\; &nbsp\; &nbsp\; Peekskill NAACP -- Quality of Life Award<br />\n&nbsp\; &nbsp\; &nbsp\; &nbsp\; &nbsp\; &nbsp\; Chapman Manzer -- Volunteer of the Year<br />\n&nbsp\; &nbsp\; &nbsp\; &nbsp\; &nbsp\; &nbsp\; Steve Malinski -- Young Professional of the Year<br />\n&nbsp\; &nbsp\; &nbsp\; &nbsp\; &nbsp\; &nbsp\; Maureen Whelan -- Chairman&#39\;s Award<br />\n<br />\n<strong>Journal Ads should be sent electronically in pdf or jpg format to dmilone@hvgatewaychamber.com before May 10\, 2022.&nbsp\;</strong><br />\n<br />\nGala Sponsorship Opportunities and Journal Ads Available Until May 10\, 2022<br />\n<br />\n<span style="font-size:9px\;"><span style="color: rgb(51\, 51\, 51)\; font-family: sans-serif\, Arial\, Verdana\, &quot\;Trebuchet MS&quot\;\; background-color: rgb(255\, 255\, 255)\;">&quot\;Contributions or gifts to the Hudson Valley Gateway Chamber of Commerce are not tax-deductible as charitable contributions.</span><br style="color: rgb(51\, 51\, 51)\; font-family: sans-serif\, Arial\, Verdana\, &quot\;Trebuchet MS&quot\;\; font-size: 13px\; background-color: rgb(255\, 255\, 255)\;" />\n<span style="color: rgb(51\, 51\, 51)\; font-family: sans-serif\, Arial\, Verdana\, &quot\;Trebuchet MS&quot\;\; background-color: rgb(255\, 255\, 255)\;">However\, they may be tax-deductible as ordinary and necessary business expenses.&quot\;</span></span></p>\n
LOCATION:Hudson Valley Gateway Chamber of Commerce 1 South Division Street Peekskill\, NY 10566 914-373-3600
UID:e.2688.28625
SEQUENCE:3
DTSTAMP:20260424T182657Z
URL:https://business.hvgatewaychamber.com/events/details/stars-along-the-hudson-sponsor-and-journal-ad-sales-event-28625
END:VEVENT

END:VCALENDAR
