BEGIN:VCALENDAR
VERSION:2.0
PRODID:-//ChamberMaster//Event Calendar 2.0//EN
METHOD:PUBLISH
X-PUBLISHED-TTL:P3D
REFRESH-INTERVAL:P3D
CALSCALE:GREGORIAN
BEGIN:VEVENT
DTSTART:20231112T010000Z
DTEND:20231112T030000Z
X-MICROSOFT-CDO-ALLDAYEVENT:FALSE
SUMMARY:Soultown to Motown
DESCRIPTION:The Sensational Soul Cruisers Return for another night of Motown and Soul\, Live in Peekskill! Under the tutelage of legendary Jersey Shore saxophonist Screamin' Steve Barlotta\, The Sensational Soul Cruisers bring to you their Soultown to Motown Show. This Concert focuses on iconic Classic Soul & Motown music from the period of time generally between the birth of Motown in 1960 to the release of Michael Jackson's all-time selling Thriller Album in 1983. The Soultown to Motown Experience recreates a note for note and absolutely live choreographed duplication of these classic tunes\, from the early pioneers of Motown\, Stax Records\, Carolina Beach Music and The Sound of Philadelphia. Sprinkled throughout the show you will hear the sounds of artists like : Four Tops\, Temptations\, Jackson 5\, Smokey Robinson\, Sly and the Family Stone\, The Spinners\, Earth Wind & Fire\, Edwin Starr\, Sam & Dave\, Carl Carton\, Otis Redding\, The Delfonics\, Marvin Gaye\, Harold Melvin & the Blue Notes\, The Manhattans\, Barry White\, The Commodores\, The Stylistics with many more soulful gems and surprises! The show touches on the cr me de la cr me of this vast catalogue from the Doo-Wop sounds of the Flamingos "I only have eyes for you" to very danceable "Ladies Night" by Kool and the Gang. With their multimedia video backdrop this show transcends generations making it one to be loved by all. *As a reminder\, no outside food or drink permitted in the venue. Any patron found with outside alcohol\, is subject to removal.
X-ALT-DESC;FMTTYPE=text/html:The Sensational Soul Cruisers Return for another night of Motown and Soul\, Live in Peekskill! Under the tutelage of legendary Jersey Shore saxophonist Screamin&rsquo\; Steve Barlotta\, The Sensational Soul Cruisers bring to you their Soultown to Motown Show. This Concert focuses on iconic Classic Soul &amp\; Motown music from the period of time generally between the birth of Motown in 1960 to the release of Michael Jackson&rsquo\;s all-time selling Thriller Album in 1983. The Soultown to Motown Experience recreates a note for note and absolutely live choreographed duplication of these classic tunes\, from the early pioneers of Motown\, Stax Records\, Carolina Beach Music and The Sound of Philadelphia. Sprinkled throughout the show you will hear the sounds of artists like : Four Tops\, Temptations\, Jackson 5\, Smokey Robinson\, Sly and the Family Stone\, The Spinners\, Earth Wind &amp\; Fire\, Edwin Starr\, Sam &amp\; Dave\, Carl Carton\, Otis Redding\, The Delfonics\, Marvin Gaye\, Harold Melvin &amp\; the Blue Notes\, The Manhattans\, Barry White\, The Commodores\, The Stylistics with many more soulful gems and surprises! The show touches on the cr&egrave\;me de la cr&egrave\;me of this vast catalogue from the Doo-Wop sounds of the Flamingos &ldquo\;I only have eyes for you&rdquo\; to very danceable &ldquo\;Ladies Night&rdquo\; by Kool and the Gang. With their multimedia video backdrop this show transcends generations making it one to be loved by all. *As a reminder\, no outside food or drink permitted in the venue. Any patron found with outside alcohol\, is subject to removal.
LOCATION:Paramount Hudson Valley Theater 1008 Brown St.\, Peekskill\, NY 10566
UID:e.2688.51341
SEQUENCE:3
DTSTAMP:20260423T124531Z
URL:https://business.hvgatewaychamber.com/events/details/soultown-to-motown-51341
END:VEVENT

END:VCALENDAR
