BEGIN:VCALENDAR
VERSION:2.0
PRODID:-//ChamberMaster//Event Calendar 2.0//EN
METHOD:PUBLISH
X-PUBLISHED-TTL:P3D
REFRESH-INTERVAL:P3D
CALSCALE:GREGORIAN
BEGIN:VEVENT
DTSTART:20231105T190000Z
DTEND:20231105T210000Z
X-MICROSOFT-CDO-ALLDAYEVENT:FALSE
SUMMARY:“Seeking the Light” Karin Lemke Art Exhibit and Reception
DESCRIPTION:Tompkins Corners Cultural Center will present "Seeking the Light\," an exhibit of recent watercolors by Hudson Valley painter Karin Lemke. \n\nRecognized for its capture of the light\, Karin's work has often been exhibited at Howland Center in Beacon and in a number of venues in the Hudson Valley\, where she continues to study with Patricia Collins Broun. Karin attributes her "awakenings to landscapes\, seascapes and skyscapes" to her family's many land and sea journeys.\n\nMeet the Artist and enjoy refreshments and the musical stylings of Linda Thornton and Tim Pitt. The reception is free\, with donations gratefully accepted\, and is supported by a grant from the Anne Anastasi Foundation facilitated by Jonathan Galente and Mary Beth Minton.\n\nThis exhibit will be on view in our Maaike Hoekstra Gallery during events from November 3rd through December 14th\, 2023. Prints of Karin's paintings may be ordered at the reception and throughout the show's run.
X-ALT-DESC;FMTTYPE=text/html:<p style="margin-left:0.9004898071289062pt\; margin-right:15.297607421875pt"><span style="background-color:rgb(255\, 255\, 255)\; color:rgb(34\, 34\, 34)\; font-family:arial\,sans-serif\; font-size:10.9815pt">Tompkins Corners Cultural Center will present &ldquo\;Seeking the Light\,&rdquo\; an</span><span style="color:rgb(34\, 34\, 34)\; font-family:arial\,sans-serif\; font-size:10.9815pt"> </span><span style="background-color:rgb(255\, 255\, 255)\; color:rgb(34\, 34\, 34)\; font-family:arial\,sans-serif\; font-size:10.9815pt">exhibit of recent watercolors by Hudson Valley painter Karin Lemke.</span><span style="color:rgb(34\, 34\, 34)\; font-family:arial\,sans-serif\; font-size:10.9815pt">&nbsp\;</span></p>\n\n<p style="margin-left:0.5380973815917969pt"><span style="background-color:rgb(255\, 255\, 255)\; color:rgb(34\, 34\, 34)\; font-family:arial\,sans-serif\; font-size:10.9815pt">Recognized for its capture of</span><span style="color:rgb(34\, 34\, 34)\; font-family:arial\,sans-serif\; font-size:10.9815pt"> </span><span style="background-color:rgb(255\, 255\, 255)\; color:rgb(34\, 34\, 34)\; font-family:arial\,sans-serif\; font-size:10.9815pt">the light\, Karin&rsquo\;s work has often been exhibited</span><span style="background-color:rgb(255\, 255\, 255)\; color:rgb(34\, 34\, 34)\; font-family:arial\,sans-serif\; font-size:11pt"> at Howland Center in Beacon</span><span style="background-color:rgb(255\, 255\, 255)\; color:rgb(34\, 34\, 34)\; font-family:arial\,sans-serif\; font-size:10.9815pt"> and in a number of venues in the Hudson</span><span style="color:rgb(34\, 34\, 34)\; font-family:arial\,sans-serif\; font-size:10.9815pt"> </span><span style="background-color:rgb(255\, 255\, 255)\; color:rgb(34\, 34\, 34)\; font-family:arial\,sans-serif\; font-size:10.9815pt">Valley\, where she continues to study with Patricia Collins Broun.</span><span style="color:rgb(34\, 34\, 34)\; font-family:arial\,sans-serif\; font-size:10.9815pt"> </span><span style="background-color:rgb(255\, 255\, 255)\; color:rgb(34\, 34\, 34)\; font-family:arial\,sans-serif\; font-size:10.9815pt">Karin attributes her &ldquo\;awakenings to landscapes\, seascapes and skyscapes&rdquo\; to her family&#39\;s many land and sea</span><span style="color:rgb(34\, 34\, 34)\; font-family:arial\,sans-serif\; font-size:10.9815pt"> j</span><span style="background-color:rgb(255\, 255\, 255)\; color:rgb(34\, 34\, 34)\; font-family:arial\,sans-serif\; font-size:10.9815pt">ourneys.</span></p>\n\n<p style="margin-left:0.7467460632324219pt\; margin-right:9.55584716796875pt"><span style="color:rgb(34\, 34\, 34)\; font-family:arial\,sans-serif\; font-size:10.9815pt">Meet the Artist and enjoy refreshments and the musical stylings of Linda Thornton and Tim Pitt. </span><span style="font-family:arial\,sans-serif\; font-size:10.9815pt">The reception is free\, with donations gratefully accepted</span><span style="color:rgb(34\, 34\, 34)\; font-family:arial\,sans-serif\; font-size:10.9815pt">\, and is supported by a grant from the Anne Anastasi Foundation facilitated by Jonathan Galente and Mary Beth Minton.</span></p>\n\n<p style="margin-left:0.7464027404785156pt\; margin-right:11.04852294921875pt"><span style="font-family:arial\,sans-serif\; font-size:10.9666pt">This exhibit will be on view in our Maaike Hoekstra Gallery during events from November 3rd through December 14th\, 2023. </span><span style="background-color:rgb(255\, 255\, 255)\; color:rgb(34\, 34\, 34)\; font-family:arial\,sans-serif\; font-size:10.9815pt">Prints of Karin&rsquo\;s paintings may be ordered at the reception and throughout the show&#39\;s</span><span style="color:rgb(34\, 34\, 34)\; font-family:arial\,sans-serif\; font-size:10.9815pt"> </span><span style="background-color:rgb(255\, 255\, 255)\; color:rgb(34\, 34\, 34)\; font-family:arial\,sans-serif\; font-size:10.9815pt">run.</span><span style="color:rgb(34\, 34\, 34)\; font-family:arial\,sans-serif\; font-size:10.9815pt">&nbsp\;</span></p>\n\n<div>&nbsp\;</div>\n
LOCATION:Tompkins Corners Cultural Center 729 Peekskill Hollow Rd Putnam Valley\, NY 10579
UID:e.2688.59661
SEQUENCE:3
DTSTAMP:20260423T124539Z
URL:https://business.hvgatewaychamber.com/events/details/seeking-the-light-karin-lemke-art-exhibit-and-reception-59661
END:VEVENT

END:VCALENDAR
