BEGIN:VCALENDAR
VERSION:2.0
PRODID:-//ChamberMaster//Event Calendar 2.0//EN
METHOD:PUBLISH
X-PUBLISHED-TTL:P3D
REFRESH-INTERVAL:P3D
CALSCALE:GREGORIAN
BEGIN:VEVENT
DTSTART:20220401T143000Z
DTEND:20220401T153000Z
X-MICROSOFT-CDO-ALLDAYEVENT:FALSE
SUMMARY:Qi-Gong for Health via Zoom
DESCRIPTION:She's back!  In this four-week class (April 1\, 8\, 22\, 29) Jian-Yang Rong\, Certified Qi-Gong Therapist and Instructor\, will guide participants in the art of Qi-Gong through energy and gentle body movement for healing the body\, mind\, and emotions. Registration begins March 18.  When registering\, it is expected that you will attend all four sessions. The Zoom invitation will be sent out one day prior to each session.
X-ALT-DESC;FMTTYPE=text/html:She&#39\;s back!&nbsp\; In this four-week class (April 1\, 8\, 22\, 29) Jian-Yang Rong\, Certified Qi-Gong Therapist and Instructor\, will guide participants in the art of Qi-Gong through energy and gentle body movement for healing the body\, mind\, and emotions. Registration begins March 18.&nbsp\; When registering\, it is expected that you will attend all four sessions. The Zoom invitation will be sent out one day prior to each session.
LOCATION:Hendrick Hudson Free Library 185 Kings Ferry Road Montrose\, NY 10548
UID:e.2688.28627
SEQUENCE:3
DTSTAMP:20260424T182743Z
URL:https://business.hvgatewaychamber.com/events/details/qi-gong-for-health-via-zoom-04-01-2022-28627
END:VEVENT

END:VCALENDAR
