BEGIN:VCALENDAR
VERSION:2.0
PRODID:-//ChamberMaster//Event Calendar 2.0//EN
METHOD:PUBLISH
X-PUBLISHED-TTL:P3D
REFRESH-INTERVAL:P3D
CALSCALE:GREGORIAN
BEGIN:VEVENT
DTSTART:20220225T153000Z
DTEND:20220225T163000Z
X-MICROSOFT-CDO-ALLDAYEVENT:FALSE
SUMMARY:Qi-Gong for Health via Zoom
DESCRIPTION:In this four-week class (February 4\, 11\, 18\, 25) Jian-Yang Rong\, Certified Qi-Gong Therapist and Instructor\, will guide participants in the art of Qi-Gong through energy and gentle body movement for healing the body\, mind\, and emotions. Registration begins January 21 via the library's Web site. When registering\, it is expected that you will attend all four sessions. The Zoom invitation will be sent out one day prior to each session.
X-ALT-DESC;FMTTYPE=text/html:In this four-week class (February 4\, 11\, 18\, 25) Jian-Yang Rong\, Certified Qi-Gong Therapist and Instructor\, will guide participants in the art of Qi-Gong through energy and gentle body movement for healing the body\, mind\, and emotions. Registration begins January 21 via the library&#39\;s Web site. When registering\, it is expected that you will attend all four sessions. The Zoom invitation will be sent out one day prior to each session.
LOCATION:Hendrick Hudson Free Library 185 Kings Ferry Road Montrose\, NY 10548
UID:e.2688.23578
SEQUENCE:3
DTSTAMP:20260424T142403Z
URL:https://business.hvgatewaychamber.com/events/details/qi-gong-for-health-via-zoom-02-25-2022-23578
END:VEVENT

END:VCALENDAR
