BEGIN:VCALENDAR
VERSION:2.0
PRODID:-//ChamberMaster//Event Calendar 2.0//EN
METHOD:PUBLISH
X-PUBLISHED-TTL:P3D
REFRESH-INTERVAL:P3D
CALSCALE:GREGORIAN
BEGIN:VEVENT
DTSTART:20220411T220000Z
DTEND:20220411T230000Z
X-MICROSOFT-CDO-ALLDAYEVENT:FALSE
SUMMARY:Poetry Reading Workshop
DESCRIPTION:In celebration of National Poetry Month\, local poet\, Bill Greenfield\, will begin the workshop by reading some of his poetry\, followed by a question-and-answer period.  In addition\, participants will be given the opportunity to read their own poetry in 5-minute segments.  Registration begins March 28 via the library's Web site.
X-ALT-DESC;FMTTYPE=text/html:In celebration of National Poetry Month\, local poet\, Bill Greenfield\, will begin the workshop by reading some of his poetry\, followed by a question-and-answer period.&nbsp\; In addition\, participants will be given the opportunity to read their own poetry in 5-minute segments.&nbsp\; Registration begins March 28 via the library&#39\;s Web site.
LOCATION:Hendrick Hudson Free Library 185 Kings Ferry Road Montrose\, NY 10548
UID:e.2688.28630
SEQUENCE:3
DTSTAMP:20260424T170807Z
URL:https://business.hvgatewaychamber.com/events/details/poetry-reading-workshop-04-11-2022-28630
END:VEVENT

END:VCALENDAR
