BEGIN:VCALENDAR
VERSION:2.0
PRODID:-//ChamberMaster//Event Calendar 2.0//EN
METHOD:PUBLISH
X-PUBLISHED-TTL:P3D
REFRESH-INTERVAL:P3D
CALSCALE:GREGORIAN
BEGIN:VEVENT
DTSTART:20220407T220000Z
DTEND:20220407T220000Z
X-MICROSOFT-CDO-ALLDAYEVENT:FALSE
SUMMARY:Part II: Art of the New York City Subways via Zoom
DESCRIPTION:In this Part II of a two-part series\, Oscar Israelowitz\, architect\, licensed New York City tour guide\, and author of over 75 books\, will give a visual and historic tour of the beautiful artwork\, and mosaic tiles\, Bas reliefs\, sculptures\, etc.\, found throughout the New York City subway station.  Registration begins March 24 via the library's Web site.  The Zoom invitation will be sent out one day prior to the program.
X-ALT-DESC;FMTTYPE=text/html:In this Part II of a two-part series\, Oscar Israelowitz\, architect\, licensed New York City tour guide\, and author of over 75 books\, will give a visual and historic tour of the beautiful artwork\, and mosaic tiles\, Bas reliefs\, sculptures\, etc.\, found throughout the New York City subway station.&nbsp\; Registration begins March 24 via the library&#39\;s Web site.&nbsp\; The Zoom invitation will be sent out one day prior to the program.
LOCATION:Hendrick Hudson Free Library 185 Kings Ferry Road Montrose\, NY 15048
UID:e.2688.28629
SEQUENCE:3
DTSTAMP:20260424T172143Z
URL:https://business.hvgatewaychamber.com/events/details/part-ii-art-of-the-new-york-city-subways-via-zoom-28629
END:VEVENT

END:VCALENDAR
