BEGIN:VCALENDAR
VERSION:2.0
PRODID:-//ChamberMaster//Event Calendar 2.0//EN
METHOD:PUBLISH
X-PUBLISHED-TTL:P3D
REFRESH-INTERVAL:P3D
CALSCALE:GREGORIAN
BEGIN:VEVENT
DTSTART:20220412T220000Z
DTEND:20220412T230000Z
X-MICROSOFT-CDO-ALLDAYEVENT:FALSE
SUMMARY:Nature as a Sanctuary: Seeking Refuge in a Pandemic
DESCRIPTION:Pam Zicca\, author of the book entitled Nature As a Sanctuary: Seeking Refuge in the Pandemic\, will talk about the contemplative nature of her book and how it helps people feel centered and better connected with nature.  Registration begins March 29 via the library's Web site.
X-ALT-DESC;FMTTYPE=text/html:Pam Zicca\, author of the book entitled&nbsp\;<em>Nature As a Sanctuary: Seeking Refuge in the Pandemic</em>\, will talk about the contemplative nature of her book and how it helps people feel centered and better connected with nature.&nbsp\; Registration begins March 29 via the library&#39\;s Web site.
LOCATION:Hendrick Hudson Free Library 185 Kings Ferry Road Montrose\, NY 10548
UID:e.2688.28631
SEQUENCE:3
DTSTAMP:20260424T171011Z
URL:https://business.hvgatewaychamber.com/events/details/nature-as-a-sanctuary-seeking-refuge-in-a-pandemic-28631
END:VEVENT

END:VCALENDAR
