BEGIN:VCALENDAR
VERSION:2.0
PRODID:-//ChamberMaster//Event Calendar 2.0//EN
METHOD:PUBLISH
X-PUBLISHED-TTL:P3D
REFRESH-INTERVAL:P3D
CALSCALE:GREGORIAN
BEGIN:VEVENT
DTSTART:20231029T230000Z
DTEND:20231030T010000Z
X-MICROSOFT-CDO-ALLDAYEVENT:FALSE
SUMMARY:National Theatre Live- Frankenstein
DESCRIPTION:????? 'A hell of a production.' (The Times) ???? 'A Monster Hit.' (Time Out) ???? 'The most viscerally exciting and stunning show in town.' (Daily Telegraph) National Theatre Live's much-loved broadcast returns to celebrate the 200th anniversary of Mary Shelley's novel. Childlike in his innocence but grotesque in form\, Frankenstein's bewildered creature is cast out into a hostile universe by his horror-struck maker. Meeting with cruelty wherever he goes\, the increasingly desperate and vengeful Creature determines to track down his creator and strike a terrifying deal. Scientific responsibility\, parental neglect\, cognitive development and the nature of good and evil\, are embedded within this thrilling and deeply disturbing classic tale. Captured live on stage in 2011\, this thrilling\, sold-out production became an international sensation\, experienced by almost half a million people in cinemas around the world. 100 minutes without an intermission. Directed by Academy Award -winner Danny Boyle (Trainspotting\, Slumdog Millionaire)\, Frankenstein features Benedict Cumberbatch as the Creature (Hamlet\, BBC's Sherlock) and Jonny Lee Miller as the Doctor (Elementary\, Trainspotting). *As a reminder\, no outside food or drink permitted in the venue. Any patron found with outside alcohol\, is subject to removal. Backpacks and large bags are not permitted inside of the venue.
X-ALT-DESC;FMTTYPE=text/html:????? &lsquo\;A hell of a production.&rsquo\; (The Times) ???? &lsquo\;A Monster Hit.&rsquo\; (Time Out) ???? &lsquo\;The most viscerally exciting and stunning show in town.&rsquo\; (Daily Telegraph) National Theatre Live&rsquo\;s much-loved broadcast returns to celebrate the 200th anniversary of Mary Shelley&rsquo\;s novel. Childlike in his innocence but grotesque in form\, Frankenstein&rsquo\;s bewildered creature is cast out into a hostile universe by his horror-struck maker. Meeting with cruelty wherever he goes\, the increasingly desperate and vengeful Creature determines to track down his creator and strike a terrifying deal. Scientific responsibility\, parental neglect\, cognitive development and the nature of good and evil\, are embedded within this thrilling and deeply disturbing classic tale. Captured live on stage in 2011\, this thrilling\, sold-out production became an international sensation\, experienced by almost half a million people in cinemas around the world. 100 minutes without an intermission. Directed by Academy Award&reg\;-winner Danny Boyle (Trainspotting\, Slumdog Millionaire)\, Frankenstein features Benedict Cumberbatch as the Creature (Hamlet\, BBC&rsquo\;s Sherlock) and Jonny Lee Miller as the Doctor (Elementary\, Trainspotting). *As a reminder\, no outside food or drink permitted in the venue. Any patron found with outside alcohol\, is subject to removal. Backpacks and large bags are not permitted inside of the venue.
LOCATION:Paramount Hudson Valley Theater 1008 Brown St.\, Peekskill\, NY 10566
UID:e.2688.57302
SEQUENCE:3
DTSTAMP:20260425T110237Z
URL:https://business.hvgatewaychamber.com/events/details/national-theatre-live-frankenstein-57302
END:VEVENT

END:VCALENDAR
