BEGIN:VCALENDAR
VERSION:2.0
PRODID:-//ChamberMaster//Event Calendar 2.0//EN
METHOD:PUBLISH
X-PUBLISHED-TTL:P3D
REFRESH-INTERVAL:P3D
CALSCALE:GREGORIAN
BEGIN:VEVENT
DTSTART:20210707T230000Z
DTEND:20210708T000000Z
X-MICROSOFT-CDO-ALLDAYEVENT:FALSE
SUMMARY:Maritime Smuggling on Long Island: From Pirates to Rumrunners
DESCRIPTION:From 18th century pirates to Prohibition era bootleggers\, Long Island has been a historic hub of maritime smuggling. Join PHM and author Bill Bleyer for a virtual lecture on July 7th at 7 PM to learn why infamous pirates like Captain Kidd were attracted to Long Island\, and why the area became known as Rum Row during Prohibition. Bill Bleyer is a former Newsday staff writer and current freelance contributor for the paper and magazines who has written four books on Long Island history. Bleyer has lectured at libraries\, museums and historical societies across Long Island on a range of subjects\, including maritime and Civil War history.
X-ALT-DESC;FMTTYPE=text/html:From 18th century pirates to Prohibition era bootleggers\, Long Island has been a historic hub of maritime smuggling. Join PHM and author Bill Bleyer for a virtual lecture on July 7th at 7 PM to learn why infamous pirates like Captain Kidd were attracted to Long Island\, and why the area became known as Rum Row during Prohibition. Bill Bleyer is a former Newsday staff writer and current freelance contributor for the paper and magazines who has written four books on Long Island history. Bleyer has lectured at libraries\, museums and historical societies across Long Island on a range of subjects\, including maritime and Civil War history.
LOCATION:Online
UID:e.2688.11225
SEQUENCE:3
DTSTAMP:20260424T203332Z
URL:https://business.hvgatewaychamber.com/events/details/maritime-smuggling-on-long-island-from-pirates-to-rumrunners-11225
END:VEVENT

END:VCALENDAR
