BEGIN:VCALENDAR
VERSION:2.0
PRODID:-//ChamberMaster//Event Calendar 2.0//EN
METHOD:PUBLISH
X-PUBLISHED-TTL:P3D
REFRESH-INTERVAL:P3D
CALSCALE:GREGORIAN
BEGIN:VEVENT
DTSTART:20230608T230000Z
DTEND:20230609T001500Z
X-MICROSOFT-CDO-ALLDAYEVENT:FALSE
SUMMARY:Hybrid Lecture: "Painting With Sunlight": Daguerrist S.L. Walker
DESCRIPTION:Join us for a hybrid presentation by Kirk Moldoff on this early local photographer. Soon after the invention of the daguerreotype\, Samuel Lyon Walker became one of America's first practitioners of this new art. His love and devotion to his craft ran deep and he was continually experimenting\, even to the detriment of his health. Known for his great artistic taste\, Walker's images were considered some of the finest ever made. Though mostly unknown today\, he was devoted to recording and promoting nineteenth century Poughkeepsie and its people. The event will take place in-person at the PHM and live-streaming on Zoom. Kirk Moldoff is a medical illustrator and animator with a passion for industrial archaeology\, local history and cast iron stoves. His research into the work and life of Poughkeepsie's S.L. Walker stems from an interest in the 19th Century Hudson Valley as a nexus for art\, innovation and invention.
X-ALT-DESC;FMTTYPE=text/html:Join us for a hybrid presentation by Kirk Moldoff on this early local photographer. Soon after the invention of the daguerreotype\, Samuel Lyon Walker became one of America&rsquo\;s first practitioners of this new art. His love and devotion to his craft ran deep and he was continually experimenting\, even to the detriment of his health. Known for his great artistic taste\, Walker&rsquo\;s images were considered some of the finest ever made. Though mostly unknown today\, he was devoted to recording and promoting nineteenth century Poughkeepsie and its people. The event will take place in-person at the PHM and live-streaming on Zoom. Kirk Moldoff is a medical illustrator and animator with a passion for industrial archaeology\, local history and cast iron stoves. His research into the work and life of Poughkeepsie&rsquo\;s S.L. Walker stems from an interest in the 19th Century Hudson Valley as a nexus for art\, innovation and invention.
LOCATION:63 Chestnut Street\, Cold Spring\, NY 10516\, and Online
UID:e.2688.53707
SEQUENCE:3
DTSTAMP:20260423T082903Z
URL:https://business.hvgatewaychamber.com/events/details/hybrid-lecture-painting-with-sunlight-daguerrist-s-l-walker-53707
END:VEVENT

END:VCALENDAR
