BEGIN:VCALENDAR
VERSION:2.0
PRODID:-//ChamberMaster//Event Calendar 2.0//EN
METHOD:PUBLISH
X-PUBLISHED-TTL:P3D
REFRESH-INTERVAL:P3D
CALSCALE:GREGORIAN
BEGIN:VEVENT
DTSTART:20231116T000000Z
DTEND:20231116T020000Z
X-MICROSOFT-CDO-ALLDAYEVENT:FALSE
SUMMARY:Hendrick Hudson High School Career Fair
DESCRIPTION:Join other community business owners and professionals as they share valuable college and career insights with our high school students at the second annual Hendrick Hudson High School Career Fair on November 15\, 2023 from 7-9 pm at 2166 Albany Post Rd\, Montrose.\n\n\n\nClick on this link to sign up: https://forms.gle/Fb8aPt5H479twPrD6
X-ALT-DESC;FMTTYPE=text/html:Join other community business owners and professionals as they share valuable college and career insights with our high school students at the second annual Hendrick Hudson High School Career Fair on November 15\, 2023 from 7-9 pm at 2166 Albany Post Rd\, Montrose.<br />\n<br />\nClick on this link to sign up: <a href="https://forms.gle/Fb8aPt5H479twPrD6">https://forms.gle/Fb8aPt5H479twPrD6</a>
LOCATION:
UID:e.2688.59676
SEQUENCE:3
DTSTAMP:20260423T124539Z
URL:https://business.hvgatewaychamber.com/events/details/hendrick-hudson-high-school-career-fair-59676
END:VEVENT

END:VCALENDAR
