BEGIN:VCALENDAR
VERSION:2.0
PRODID:-//ChamberMaster//Event Calendar 2.0//EN
METHOD:PUBLISH
X-PUBLISHED-TTL:P3D
REFRESH-INTERVAL:P3D
CALSCALE:GREGORIAN
BEGIN:VEVENT
DTSTART:20220414T220000Z
DTEND:20220415T000000Z
X-MICROSOFT-CDO-ALLDAYEVENT:FALSE
SUMMARY:Hendrick Hudson Free Library Writing Group via Zoom
DESCRIPTION:Join the library's informal\, supportive writing group led by staff member Tessa Rossi.  Writers of all interests and abilities are welcomed.  Registration begins March 31 via the library's Web site.  The Zoom invitation will be sent out one day prior to the program.  For questions\, contact Tessa at trossi@wlsmail.org.
X-ALT-DESC;FMTTYPE=text/html:Join the library&rsquo\;s informal\, supportive writing group led by staff member Tessa Rossi. &nbsp\;Writers of all interests and abilities are welcomed. &nbsp\;Registration begins March 31 via the library&#39\;s Web site.&nbsp\; The Zoom invitation will be sent out one day prior to the program. &nbsp\;For questions\, contact Tessa at trossi@wlsmail.org.
LOCATION:Hendrick Hudson Free Library 185 Kings Ferry Road Montrose\, NY 10548
UID:e.2688.28634
SEQUENCE:3
DTSTAMP:20260424T171756Z
URL:https://business.hvgatewaychamber.com/events/details/hendrick-hudson-free-library-writing-group-via-zoom-04-14-2022-28634
END:VEVENT

END:VCALENDAR
