BEGIN:VCALENDAR
VERSION:2.0
PRODID:-//ChamberMaster//Event Calendar 2.0//EN
METHOD:PUBLISH
X-PUBLISHED-TTL:P3D
REFRESH-INTERVAL:P3D
CALSCALE:GREGORIAN
BEGIN:VEVENT
DTSTART:20220217T230000Z
DTEND:20220218T010000Z
X-MICROSOFT-CDO-ALLDAYEVENT:FALSE
SUMMARY:Hendrick Hudson Free Library Writing Group via Zoom
DESCRIPTION:Join the library's informal\, supportive writing group led by staff member Tessa Rossi. Writers of all interests and abilities are welcomed. Registration begins February 3 via the library's Web site. The Zoom invitation will be sent out one day prior to the program. For questions\, contact Tessa at trossi@wlsmail.org.
X-ALT-DESC;FMTTYPE=text/html:Join the library&rsquo\;s informal\, supportive writing group led by staff member Tessa Rossi. Writers of all interests and abilities are welcomed. Registration begins February 3 via the library&#39\;s Web site. The Zoom invitation will be sent out one day prior to the program. For questions\, contact Tessa at trossi@wlsmail.org.
LOCATION:Hendrick Hudson Free Library 185 Kings Ferry Road Montrose\, NY 10548
UID:e.2688.23584
SEQUENCE:3
DTSTAMP:20260424T142311Z
URL:https://business.hvgatewaychamber.com/events/details/hendrick-hudson-free-library-writing-group-via-zoom-02-17-2022-23584
END:VEVENT

END:VCALENDAR
