BEGIN:VCALENDAR
VERSION:2.0
PRODID:-//ChamberMaster//Event Calendar 2.0//EN
METHOD:PUBLISH
X-PUBLISHED-TTL:P3D
REFRESH-INTERVAL:P3D
CALSCALE:GREGORIAN
BEGIN:VEVENT
DTSTART:20220414T210000Z
DTEND:20220414T233000Z
X-MICROSOFT-CDO-ALLDAYEVENT:FALSE
SUMMARY:Get Your Paint On With Risa: Daisy Apple Basket Lid Wreath
DESCRIPTION:Celebrate spring with a hand-painted apple basket lid wreath.  Risa Getman\, co-owner of Hudson Valley Vintage\, will teach participants how to paint wreaths with acrylic paint.  Vintage lids measure from approximately 14" to 18".  Registration begins March 31 via the library's Web site.  A $10 materials fee is due by April 13.  If the materials fee is not received by the due date\, your spot will be forfeited to the next person on the waitlist.
X-ALT-DESC;FMTTYPE=text/html:Celebrate spring with a hand-painted apple basket lid wreath.&nbsp\; Risa Getman\, co-owner of Hudson Valley Vintage\, will teach participants how to paint wreaths with acrylic paint.&nbsp\; Vintage lids measure from approximately 14&quot\; to 18&quot\;.&nbsp\; Registration begins March 31 via the library&#39\;s Web site.&nbsp\; A $10 materials fee is due by April 13.&nbsp\; If the materials fee is not received by the due date\, your spot will be forfeited to the next person on the waitlist.
LOCATION:Hendrick Hudson Free Library 185 Kings Ferry Road Montrose\, NY 10548
UID:e.2688.28635
SEQUENCE:3
DTSTAMP:20260424T171605Z
URL:https://business.hvgatewaychamber.com/events/details/get-your-paint-on-with-risa-daisy-apple-basket-lid-wreath-28635
END:VEVENT

END:VCALENDAR
