BEGIN:VCALENDAR
VERSION:2.0
PRODID:-//ChamberMaster//Event Calendar 2.0//EN
METHOD:PUBLISH
X-PUBLISHED-TTL:P3D
REFRESH-INTERVAL:P3D
CALSCALE:GREGORIAN
BEGIN:VEVENT
DTSTART:20231105T000000Z
DTEND:20231105T020000Z
X-MICROSOFT-CDO-ALLDAYEVENT:FALSE
SUMMARY:Gary Lewis & The Playboys and Mitch Rider- The Diamond Rind and The Devil Tour
DESCRIPTION:Gary Lewis was about as close to being an "overnight success" in the recording field as anyone can get. And   just because it happens so seldom   it is always a special thrill when show business lightning strikes twice in the same family. The comedy antics of Jerry Lewis skyrocketed him to fame when he was just barely out of his teens. No. 1 son Gary had achieved comparable success in the music field. With the producer/arranger team of Garrett and Leon Russell behind them\, they took their first single\, "This Diamond Ring" straight to number one. After their second hit titled "Count Me In" went to number two\, Gary and the band proved that they would be a continued success. They followed with more Top 10 songs such as "Save Your Heart For Me"\, "Everybody Loves A Clown"\, "She's Just My Style"\, "Sure Gonna Miss Her"\, and many more! With 8 Gold Singles\, 17 top 40 hits\, 45 million records sold worldwide\, Gary Lewis and The Playboys bring a fantasticly fun evening to anywhere they perform!
X-ALT-DESC;FMTTYPE=text/html:Gary Lewis was about as close to being an &ldquo\;overnight success&rdquo\; in the recording field as anyone can get. And &ndash\; just because it happens so seldom &ndash\; it is always a special thrill when show business lightning strikes twice in the same family. The comedy antics of Jerry Lewis skyrocketed him to fame when he was just barely out of his teens. No. 1 son Gary had achieved comparable success in the music field. With the producer/arranger team of Garrett and Leon Russell behind them\, they took their first single\, &ldquo\;This Diamond Ring&rdquo\; straight to number one. After their second hit titled &ldquo\;Count Me In&rdquo\; went to number two\, Gary and the band proved that they would be a continued success. They followed with more Top 10 songs such as &ldquo\;Save Your Heart For Me&rdquo\;\, &ldquo\;Everybody Loves A Clown&rdquo\;\, &ldquo\;She&rsquo\;s Just My Style&rdquo\;\, &ldquo\;Sure Gonna Miss Her&rdquo\;\, and many more! With 8 Gold Singles\, 17 top 40 hits\, 45 million records sold worldwide\, Gary Lewis and The Playboys bring a fantasticly fun evening to anywhere they perform!
LOCATION:Paramount Hudson Valley Theater 1008 Brown St.\, Peekskill\, NY 10566
UID:e.2688.51338
SEQUENCE:3
DTSTAMP:20260423T124736Z
URL:https://business.hvgatewaychamber.com/events/details/gary-lewis-the-playboys-and-mitch-rider-the-diamond-rind-and-the-devil-tour-51338
END:VEVENT

END:VCALENDAR
