BEGIN:VCALENDAR
VERSION:2.0
PRODID:-//ChamberMaster//Event Calendar 2.0//EN
METHOD:PUBLISH
X-PUBLISHED-TTL:P3D
REFRESH-INTERVAL:P3D
CALSCALE:GREGORIAN
BEGIN:VEVENT
DTSTART:20260426T040000Z
DTEND:20260426T190000Z
X-MICROSOFT-CDO-ALLDAYEVENT:FALSE
SUMMARY:Footsteps For Families
DESCRIPTION:Join Ronald McDonald House of the Greater Hudson Valley for the annual Footsteps for Families Walk Over the Hudson! Led by Grand Marshal Chase Richardson and his family\, this inspiring community walk raises vital funds to provide a "home away from home" for families with critically ill children.\n\n\n\nEnjoy a scenic afternoon on the historic Walkway with family-friendly activities\, face painting\, live music\, and raffles. Whether you're walking for a cause or enjoying the views with your leashed dog or stroller\, every step helps keep families close when they need it most.
X-ALT-DESC;FMTTYPE=text/html:<p>Join Ronald McDonald House of the Greater Hudson Valley for the annual <strong>Footsteps for Families Walk Over the Hudson</strong>! Led by Grand Marshal Chase Richardson and his family\, this inspiring community walk raises vital funds to provide a &quot\;home away from home&quot\; for families with critically ill children.<br />\n<br />\nEnjoy a scenic afternoon on the historic Walkway with family-friendly activities\, face painting\, live music\, and raffles. Whether you&rsquo\;re walking for a cause or enjoying the views with your leashed dog or stroller\, every step helps keep families close when they need it most.</p>\n
LOCATION:Walkway Over the Hudson (Stepping off from the Poughkeepsie side) Poughkeepsie\, NY
UID:e.2688.65645
SEQUENCE:3
DTSTAMP:20260421T180628Z
URL:https://business.hvgatewaychamber.com/events/details/footsteps-for-families-65645
END:VEVENT

END:VCALENDAR
