BEGIN:VCALENDAR
VERSION:2.0
PRODID:-//ChamberMaster//Event Calendar 2.0//EN
METHOD:PUBLISH
X-PUBLISHED-TTL:P3D
REFRESH-INTERVAL:P3D
CALSCALE:GREGORIAN
BEGIN:VEVENT
DTSTART:20260920T210000Z
DTEND:20260920T230000Z
X-MICROSOFT-CDO-ALLDAYEVENT:FALSE
SUMMARY:Folsom Prison Experience- A Johnny Cash Music/Dramatic Production
DESCRIPTION:Prepare to step back in time and immerse yourself in the unforgettable atmosphere of the legendary 1968 Johnny Cash show at Folsom Prison\, where the spirit of that historic day springs to life. As the doors swing open\, you'll find yourself instantly transformed into an inmate\, ready to embark on a captivating firsthand experience. Marvel at the commanding presence of Johnny Cash himself\, joined by the incomparable June Carter and the melodious harmonies of the Statler Brothers. Sense the palpable tension as the watchful warden and his guards maintain order within the prison walls. Leading you through this extraordinary journey is the ever-serious emcee\, Hugh Cherry. Get ready to be transported\, as you become an integral part of this immersive tribute\, capturing the raw energy and soul that made the Folsom Prison performance truly remarkable. A memorable show for all ages. *As a reminder\, no outside food or drink permitted in the venue. Any patron found with outside alcohol\, is subject to removal. Backpacks and large bags are not permitted inside of the venue. All guests are subject to bag checks and security wanding upon entry.
X-ALT-DESC;FMTTYPE=text/html:Prepare to step back in time and immerse yourself in the unforgettable atmosphere of the legendary 1968 Johnny Cash show at Folsom Prison\, where the spirit of that historic day springs to life. As the doors swing open\, you&rsquo\;ll find yourself instantly transformed into an inmate\, ready to embark on a captivating firsthand experience. Marvel at the commanding presence of Johnny Cash himself\, joined by the incomparable June Carter and the melodious harmonies of the Statler Brothers. Sense the palpable tension as the watchful warden and his guards maintain order within the prison walls. Leading you through this extraordinary journey is the ever-serious emcee\, Hugh Cherry. Get ready to be transported\, as you become an integral part of this immersive tribute\, capturing the raw energy and soul that made the Folsom Prison performance truly remarkable. A memorable show for all ages. *As a reminder\, no outside food or drink permitted in the venue. Any patron found with outside alcohol\, is subject to removal. Backpacks and large bags are not permitted inside of the venue. All guests are subject to bag checks and security wanding upon entry.
LOCATION:Paramount Hudson Valley Theater 1008 Brown St.\, Peekskill\, NY 10566
UID:e.2688.65411
SEQUENCE:3
DTSTAMP:20260423T121716Z
URL:https://business.hvgatewaychamber.com/events/details/folsom-prison-experience-a-johnny-cash-music-dramatic-production-65411
END:VEVENT

END:VCALENDAR
