BEGIN:VCALENDAR
VERSION:2.0
PRODID:-//ChamberMaster//Event Calendar 2.0//EN
METHOD:PUBLISH
X-PUBLISHED-TTL:P3D
REFRESH-INTERVAL:P3D
CALSCALE:GREGORIAN
BEGIN:VEVENT
DTSTART:20220423T000000Z
DTEND:20220423T020000Z
X-MICROSOFT-CDO-ALLDAYEVENT:FALSE
SUMMARY:Dry Bar Comedy LIVE!
DESCRIPTION:Dry Bar Comedy Tour LIVE is coming! The wildly popular online series of specials that offer clean "Comedy for Everyone" is expanding to live shows featuring comedians who've become Dry Bar fan favorites. Since its launch just last year\, Dry Bar comedy specials have generated over ONE BILLION views on social media and generated millions of fans. Dry Bar will maintain its whirlwind momentum by producing live shows across the U.S. These same professional comedians have also performed on many late night shows including The Tonight Show\, Jimmy Kimmel\, Netflix Comedy\, TBS's Conan\, Comedy Central\, and more. Come check out Dry Bar Comedy Tour\, the internet sensation live and in person!
X-ALT-DESC;FMTTYPE=text/html:Dry Bar Comedy Tour LIVE is coming! The wildly popular online series of specials that offer clean &ldquo\;Comedy for Everyone&rdquo\; is expanding to live shows featuring comedians who&rsquo\;ve become Dry Bar fan favorites. Since its launch just last year\, Dry Bar comedy specials have generated over ONE BILLION views on social media and generated millions of fans. Dry Bar will maintain its whirlwind momentum by producing live shows across the U.S. These same professional comedians have also performed on many late night shows including The Tonight Show\, Jimmy Kimmel\, Netflix Comedy\, TBS&rsquo\;s Conan\, Comedy Central\, and more. Come check out Dry Bar Comedy Tour\, the internet sensation live and in person!
LOCATION:Paramount Hudson Valley Theater 1008 Brown St.\, Peekskill
UID:e.2688.25218
SEQUENCE:3
DTSTAMP:20260424T171417Z
URL:https://business.hvgatewaychamber.com/events/details/dry-bar-comedy-live-25218
END:VEVENT

END:VCALENDAR
