BEGIN:VCALENDAR
VERSION:2.0
PRODID:-//ChamberMaster//Event Calendar 2.0//EN
METHOD:PUBLISH
X-PUBLISHED-TTL:P3D
REFRESH-INTERVAL:P3D
CALSCALE:GREGORIAN
BEGIN:VEVENT
DTSTART:20231119T003000Z
DTEND:20231119T023000Z
X-MICROSOFT-CDO-ALLDAYEVENT:FALSE
SUMMARY:Down Hill Strugglers at Tompkins Corners
DESCRIPTION:Tompkins Corners welcomes back the Down Hill Strugglers. An old-time string band based simultaneously out of Kentucky and New York\, the Strugglers keep the best traditional American music of the 1920s and 30s alive with new interpretations.\n\n\n\nThey have released albums on Smithsonian Folkways Recordings and Jalopy Records and are featured on the soundtrack to the Coen Brothers film\, "Inside Llewyn Davis" produced by T-Bone Burnett.\n\nThe third of four events in the John Cohen Memorial Music Series\, this project is made possible\, in part\, through the Putnam Arts Council's Arts Link Grant Program with public funds provided through the NY State Council on the Arts with support from Governor Andrew M Cuomo and the NY State Legislature. \n\nA quote about the Strugglers\, written by John Cohen:\n\n"They have built their repertoire from some of the best music of the past and they keep it alive and lively. They have found resonance with the intensity of rural music\, while delighting in the nuances that preserve the individual uniqueness of the genre. This is music that will keep your mind dancing."
X-ALT-DESC;FMTTYPE=text/html:<p><span style="background-color:transparent\; font-family:arial\,sans-serif\; font-size:11pt">Tompkins Corners welcomes back the Down Hill Strugglers. An old-time string band based simultaneously out of Kentucky and New York\, the Strugglers keep the best traditional American music of the 1920s and 30s alive with new interpretations.</span><br />\n<br />\n<span style="background-color:rgb(255\, 255\, 255)\; font-family:arial\,sans-serif\; font-size:11pt">They have released albums on Smithsonian Folkways Recordings and Jalopy Records and are featured on the soundtrack to the Coen Brothers film\, &quot\;Inside Llewyn Davis&quot\; produced by T-Bone Burnett.</span></p>\n\n<p><span style="background-color:rgb(255\, 255\, 255)\; font-family:arial\,sans-serif\; font-size:11pt">The third of four events in the John Cohen Memorial Music Series\, </span><span style="font-family:arial\,sans-serif\; font-size:11pt">this project is made possible\, in part\, through the Putnam Arts Council&rsquo\;s Arts Link Grant Program with public funds provided through the NY State Council on the Arts with support from Governor Andrew M Cuomo and the NY State Legislature.&nbsp\;</span></p>\n\n<p><span style="font-family:arial\,sans-serif\; font-size:11pt">A quote about the Strugglers\, written by John Cohen:</span></p>\n\n<p><em>&ldquo\;They have built their repertoire from some of the best music of the past and they keep it alive and lively. They have found resonance with the intensity of rural music\, while delighting in the nuances that preserve the individual uniqueness of the genre. This is music that will keep your mind dancing.&rdquo\;</em></p>\n\n<div>&nbsp\;</div>\n
LOCATION:Tompkins Corners Cultural Center 729 Peekskill Hollow Rd Putnam Valley\, NY 10579
UID:e.2688.59665
SEQUENCE:3
DTSTAMP:20260423T124455Z
URL:https://business.hvgatewaychamber.com/events/details/down-hill-strugglers-at-tompkins-corners-59665
END:VEVENT

END:VCALENDAR
