BEGIN:VCALENDAR
VERSION:2.0
PRODID:-//ChamberMaster//Event Calendar 2.0//EN
METHOD:PUBLISH
X-PUBLISHED-TTL:P3D
REFRESH-INTERVAL:P3D
CALSCALE:GREGORIAN
BEGIN:VEVENT
DTSTART:20260503T160000Z
DTEND:20260503T220000Z
X-MICROSOFT-CDO-ALLDAYEVENT:FALSE
SUMMARY:Croton Con 2026
DESCRIPTION:Join us for our 3rd annual Croton Con\, a comic con-style event presented by 3rd Universe! This free event will have live music by local musicians\, local craftspeople and vendors\, learn to play game demos\, a cosplay contest\, and much more. Did we mention free comics too? \n\nMay 3rd 12 pm to 6 pm\n\n35 North Riverside Avenue\,\n\nCroton on Hudson\, NY 10520\n\nLearn more on our website: https://www.the3rduniverse.com/croton-con-2026
X-ALT-DESC;FMTTYPE=text/html:Join us for our 3rd annual Croton Con\, a comic con-style event presented by 3rd Universe! This free event will have live music by local musicians\, local craftspeople and vendors\, learn to play game demos\, a cosplay contest\, and much more. Did we mention free comics too?&nbsp\;<br />\nMay 3rd 12 pm to 6 pm<br />\n35 North Riverside Avenue\,<br />\nCroton on Hudson\, NY 10520<br />\nLearn more on our website:&nbsp\;<a href="https://www.the3rduniverse.com/croton-con-2026">https://www.the3rduniverse.com/croton-con-2026</a>
LOCATION:3rd Universe 35 North Riverside Avenue\, Croton on Hudson\, NY 10520
UID:e.2688.65646
SEQUENCE:3
DTSTAMP:20260422T232240Z
URL:https://business.hvgatewaychamber.com/events/details/croton-con-2026-65646
END:VEVENT

END:VCALENDAR
