BEGIN:VCALENDAR
VERSION:2.0
PRODID:-//ChamberMaster//Event Calendar 2.0//EN
METHOD:PUBLISH
X-PUBLISHED-TTL:P3D
REFRESH-INTERVAL:P3D
CALSCALE:GREGORIAN
BEGIN:VEVENT
DTSTART:20220413T223000Z
DTEND:20220413T233000Z
X-MICROSOFT-CDO-ALLDAYEVENT:FALSE
SUMMARY:Cortlandt Stamp Club
DESCRIPTION:Join a group of worldwide stamp collectors to trade stamps\, have talks on various topics\, give demonstrations\, and more. Adults\, teens\, and youths under 12 with adult are welcomed. No registration required.
X-ALT-DESC;FMTTYPE=text/html:Join a group of worldwide stamp collectors to trade stamps\, have talks on various topics\, give demonstrations\, and more. Adults\, teens\, and youths under 12 with adult are welcomed. No registration required.
LOCATION:Hendrick Hudson Free Library 185 Kings Ferry Road Montrose\, NY 10548
UID:e.2688.28632
SEQUENCE:3
DTSTAMP:20260424T171005Z
URL:https://business.hvgatewaychamber.com/events/details/cortlandt-stamp-club-04-13-2022-28632
END:VEVENT

END:VCALENDAR
