BEGIN:VCALENDAR
VERSION:2.0
PRODID:-//ChamberMaster//Event Calendar 2.0//EN
METHOD:PUBLISH
X-PUBLISHED-TTL:P3D
REFRESH-INTERVAL:P3D
CALSCALE:GREGORIAN
BEGIN:VEVENT
DTSTART:20220505T223000Z
DTEND:20220506T023000Z
X-MICROSOFT-CDO-ALLDAYEVENT:FALSE
SUMMARY:Community Cares Little Black Dress Party
DESCRIPTION:Join us May 5\, 2022 for the party of the year\, the Little Black Dress Party to benefit Community Cares from 6:30   10:30 pm at Putnam County Golf Course\, 187 Hill Street\, Mahopac\, NY 10541. Enjoy a night of dancing with music by Pozziitiv Productions\, appetizers\, cash bar\, raffles\, silent auction\, swag and much more FUN! Community Cares is a local 501(c)3 not for profit serving families during a medical crisis while caring for school aged children. We provide household cleaning\, laundry wash and fold and family meals to help families. Purchase your tickets today by visiting https://bit.ly/LittleBlackDress2022.
X-ALT-DESC;FMTTYPE=text/html:Join us May 5\, 2022 for the party of the year\, the Little Black Dress Party to benefit Community Cares from 6:30 &ndash\; 10:30 pm at Putnam County Golf Course\, 187 Hill Street\, Mahopac\, NY 10541. Enjoy a night of dancing with music by Pozziitiv Productions\, appetizers\, cash bar\, raffles\, silent auction\, swag and much more FUN! Community Cares is a local 501(c)3 not for profit serving families during a medical crisis while caring for school aged children. We provide household cleaning\, laundry wash and fold and family meals to help families. Purchase your tickets today by visiting https://bit.ly/LittleBlackDress2022.
LOCATION:Putnam County Golf Course\, 187 Hill Street\, Mahopac\, NY 10541
UID:e.2688.30646
SEQUENCE:3
DTSTAMP:20260419T203844Z
URL:https://business.hvgatewaychamber.com/events/details/community-cares-little-black-dress-party-30646
END:VEVENT

END:VCALENDAR
