BEGIN:VCALENDAR
VERSION:2.0
PRODID:-//ChamberMaster//Event Calendar 2.0//EN
METHOD:PUBLISH
X-PUBLISHED-TTL:P3D
REFRESH-INTERVAL:P3D
CALSCALE:GREGORIAN
BEGIN:VEVENT
DTSTART:20231105T190000Z
DTEND:20231105T210000Z
X-MICROSOFT-CDO-ALLDAYEVENT:FALSE
SUMMARY:Carnival of the Animals - a Musical Puppet Show
DESCRIPTION:ArtsRock presents Carnival of the Animals and The Emperor's New Clothes - a brand new family show with music\, stories\, colorful projections and shadow puppets. Camille Saint-Sa ns' musical journey through the animal kingdom and Hans Christian Andersen's classic tale are presented in an imaginative production especially designed to welcome children and neurodiverse audiences. Produced in collaboration with Jeffrey Friedberg's Music For Life and made possible by a grant from Arts Council of Rockland and ArtsWestchester.
X-ALT-DESC;FMTTYPE=text/html:ArtsRock presents Carnival of the Animals and The Emperor&#39\;s New Clothes - a brand new family show with music\, stories\, colorful projections and shadow puppets. Camille Saint-Sa&euml\;ns&#39\; musical journey through the animal kingdom and Hans Christian Andersen&#39\;s classic tale are presented in an imaginative production especially designed to welcome children and neurodiverse audiences. Produced in collaboration with Jeffrey Friedberg&#39\;s Music For Life and made possible by a grant from Arts Council of Rockland and ArtsWestchester.
LOCATION:Theater at Old Nyack High School 131 N Midland Avenue Nyack\, NY 10960
UID:e.2688.59672
SEQUENCE:3
DTSTAMP:20260423T112641Z
URL:https://business.hvgatewaychamber.com/events/details/carnival-of-the-animals-a-musical-puppet-show-59672
END:VEVENT

END:VCALENDAR
