BEGIN:VCALENDAR
VERSION:2.0
PRODID:-//ChamberMaster//Event Calendar 2.0//EN
METHOD:PUBLISH
X-PUBLISHED-TTL:P3D
REFRESH-INTERVAL:P3D
CALSCALE:GREGORIAN
BEGIN:VEVENT
DTSTART:20231204T000000Z
DTEND:20231204T020000Z
X-MICROSOFT-CDO-ALLDAYEVENT:FALSE
SUMMARY:Beatles vs. Stones- A Musical Showdown
DESCRIPTION:They are back! The British Invasion brought us the two most popular rock groups of all time\, the Beatles and the Rolling Stones\, as well as the liveliest debate in rock history   which band is the greatest? These two legendary bands will engage in a musical "shoot out of the hits" featuring internationally renowned tribute bands\, Abbey Road and Satisfaction   The International Rolling Stones Show. Alternating power sets with the two bands coming together on stage for an amazing encore makes this show a once-in-a-lifetime event. *As a reminder\, no outside food or drink permitted in the venue. Any patron found with outside alcohol is subject to removal. Backpacks and large bags are not permitted inside of the venue.
X-ALT-DESC;FMTTYPE=text/html:They are back! The British Invasion brought us the two most popular rock groups of all time\, the Beatles and the Rolling Stones\, as well as the liveliest debate in rock history &ndash\; which band is the greatest? These two legendary bands will engage in a musical &ldquo\;shoot out of the hits&rdquo\; featuring internationally renowned tribute bands\, Abbey Road and Satisfaction &ndash\; The International Rolling Stones Show. Alternating power sets with the two bands coming together on stage for an amazing encore makes this show a once-in-a-lifetime event. *As a reminder\, no outside food or drink permitted in the venue. Any patron found with outside alcohol is subject to removal. Backpacks and large bags are not permitted inside of the venue.
LOCATION:Paramount Hudson Valley Theater 1008 Brown St.\, Peekskill\, NY 10566
UID:e.2688.54003
SEQUENCE:3
DTSTAMP:20260423T141724Z
URL:https://business.hvgatewaychamber.com/events/details/beatles-vs-stones-a-musical-showdown-12-03-2023-54003
END:VEVENT

END:VCALENDAR
