BEGIN:VCALENDAR
VERSION:2.0
PRODID:-//ChamberMaster//Event Calendar 2.0//EN
METHOD:PUBLISH
X-PUBLISHED-TTL:P3D
REFRESH-INTERVAL:P3D
CALSCALE:GREGORIAN
BEGIN:VEVENT
DTSTART:20221204T010000Z
DTEND:20221204T030000Z
X-MICROSOFT-CDO-ALLDAYEVENT:FALSE
SUMMARY:Beatles vs. Stones
DESCRIPTION:Beatles vs. Stones   Two of the greatest bands of all time face off in a high-energy\, adrenaline-pumping musical showdown. The Fab Four\, represented by tribute band Abbey Road will engage in a barrage of hits against premier Rolling Stones tribute band Satisfaction. It's a face-off you won't want to miss!
X-ALT-DESC;FMTTYPE=text/html:Beatles vs. Stones &ndash\; Two of the greatest bands of all time face off in a high-energy\, adrenaline-pumping musical showdown. The Fab Four\, represented by tribute band Abbey Road will engage in a barrage of hits against premier Rolling Stones tribute band Satisfaction. It&rsquo\;s a face-off you won&rsquo\;t want to miss!
LOCATION:Paramount Hudson Valley Theater 1008 Brown St.\, Peekskill\, NY 10566
UID:e.2688.35790
SEQUENCE:3
DTSTAMP:20260423T123221Z
URL:https://business.hvgatewaychamber.com/events/details/beatles-vs-stones-35790
END:VEVENT

END:VCALENDAR
