BEGIN:VCALENDAR
VERSION:2.0
PRODID:-//ChamberMaster//Event Calendar 2.0//EN
METHOD:PUBLISH
X-PUBLISHED-TTL:P3D
REFRESH-INTERVAL:P3D
CALSCALE:GREGORIAN
BEGIN:VEVENT
DTSTART;VALUE=DATE:20170617
DTEND;VALUE=DATE:20170618
TRANSP:TRANSPARENT
X-MICROSOFT-CDO-ALLDAYEVENT:TRUE
SUMMARY:America
DESCRIPTION:Founding members\, Gerry Beckley and Dewey Bunnell (along with former band mate Dan Peek) met in high school in London in the late 1960s and quickly harmonized their way to the top of the charts on the strength of their signature song "A Horse With No Name." America became a global household name and paved the way with an impressive string of hits following the success of their first #1 single. Forty plus years later\, these friends are still making music together\, touring the world and thrilling audiences with their timeless sound.\n\nMeet & Greet tickets include a Photo Op and a Poster
X-ALT-DESC;FMTTYPE=text/html:<span style="font-family:times new roman\,serif"><span style="font-size:12.0pt">Founding members\, Gerry Beckley and Dewey Bunnell (along with former band mate Dan Peek) met in high school in London in the late 1960s and quickly harmonized their way to the top of the charts on the strength of their signature song &ldquo\;A Horse With No Name.&rdquo\; America became a global household name and paved the way with an impressive string of hits following the success of their first #1 single. Forty plus years later\, these friends are still making music together\, touring the world and thrilling audiences with their timeless sound.</span></span><br />\n<span style="font-family:times new roman\,serif"><span style="font-size:12.0pt">Meet &amp\; Greet tickets include a Photo Op and a Poster</span></span><br />\n&nbsp\;
LOCATION:1008 Brown St. Peekskill\, NY 10566
UID:e.2688.1249
SEQUENCE:3
DTSTAMP:20260425T010821Z
URL:https://business.hvgatewaychamber.com/events/details/america-06-17-2017-1249
END:VEVENT

END:VCALENDAR
