BEGIN:VCALENDAR
VERSION:2.0
PRODID:-//ChamberMaster//Event Calendar 2.0//EN
METHOD:PUBLISH
X-PUBLISHED-TTL:P3D
REFRESH-INTERVAL:P3D
CALSCALE:GREGORIAN
BEGIN:VEVENT
DTSTART:20231216T000000Z
DTEND:20231216T020000Z
X-MICROSOFT-CDO-ALLDAYEVENT:FALSE
SUMMARY:A Glorious Christmas Concert
DESCRIPTION:Please join us Friday\, December 15\, 2023 at 7pm for our 29th annual Christmas Concert at the Church of the Assumption in Peekskill\, NY. Featuring Internationally Acclaimed Vocal Artist Mary Mancini\, World Renowned Accordion Virtuoso Mario Tacca\, and The Hudson Valley Accordion Ensemble. They will perform your favorite classic and contemporary Christmas Hymns and Carols\, as well as stunning pieces from Bach\, Vivaldi\, Handel and Mozart. Tickets are $20 for Adults\; $15 for children under 15. Light refreshments will be served after the concert in the Fr. Wilson Hall. Tickets will be on sale in the church vestibule after all the Masses on the weekends of Dec. 2/3 and Dec. 9/10. You can also purchase your tickets at Church Rectory. For more information contact Gioia Productions at 914-737-8872.
X-ALT-DESC;FMTTYPE=text/html:Please join us Friday\, December 15\, 2023 at 7pm for our 29th annual Christmas Concert at the Church of the Assumption in Peekskill\, NY. Featuring Internationally Acclaimed Vocal Artist Mary Mancini\, World Renowned Accordion Virtuoso Mario Tacca\, and The Hudson Valley Accordion Ensemble. They will perform your favorite classic and contemporary Christmas Hymns and Carols\, as well as stunning pieces from Bach\, Vivaldi\, Handel and Mozart. Tickets are $20 for Adults\; $15 for children under 15. Light refreshments will be served after the concert in the Fr. Wilson Hall. Tickets will be on sale in the church vestibule after all the Masses on the weekends of Dec. 2/3 and Dec. 9/10. You can also purchase your tickets at Church Rectory. For more information contact Gioia Productions at 914-737-8872.
LOCATION:920 First Street\, Peekskill\, NY 10566
UID:e.2688.59735
SEQUENCE:3
DTSTAMP:20260423T141605Z
URL:https://business.hvgatewaychamber.com/events/details/a-glorious-christmas-concert-59735
END:VEVENT

END:VCALENDAR
