BEGIN:VCALENDAR
VERSION:2.0
PRODID:-//ChamberMaster//Event Calendar 2.0//EN
METHOD:PUBLISH
X-PUBLISHED-TTL:P3D
REFRESH-INTERVAL:P3D
CALSCALE:GREGORIAN
BEGIN:VEVENT
DTSTART:20231014T150000Z
DTEND:20231014T190000Z
X-MICROSOFT-CDO-ALLDAYEVENT:FALSE
SUMMARY:1ST ANNUAL BARKTOBERFEST WITH THE FRIENDS OF THE PEEKSKILL DOG PARK
DESCRIPTION:Join us for our 1st Annual Barktoberfest event for the Peekskill Dog Community. Food Trucks\, Live Music by Kristina Koller\, Kids Activities\, Dog Halloween Costume Contest/Parade\, and Dog Adoptions from Local Rescues. We look forward to meeting you and your pups\, and bringing the community together! **Prize awarded to the dog winner of the Halloween costume contest.
X-ALT-DESC;FMTTYPE=text/html:Join us for our 1st Annual Barktoberfest event for the Peekskill Dog Community. Food Trucks\, Live Music by Kristina Koller\, Kids Activities\, Dog Halloween Costume Contest/Parade\, and Dog Adoptions from Local Rescues. We look forward to meeting you and your pups\, and bringing the community together! **Prize awarded to the dog winner of the Halloween costume contest.
LOCATION:1795 Main St\, Peekskill\, NY 10566
UID:e.2688.57152
SEQUENCE:3
DTSTAMP:20260419T155954Z
URL:https://business.hvgatewaychamber.com/events/details/1st-annual-barktoberfest-with-the-friends-of-the-peekskill-dog-park-57152
END:VEVENT

END:VCALENDAR
